BEGIN:VCALENDAR
VERSION:2.0
PRODID:-//Plone.org//NONSGML plone.app.event//EN
X-WR-TIMEZONE:Europe/Madrid
BEGIN:VEVENT
SUMMARY:Curs de DRAC i l'avaluació de la recerca per a PDI de nou ingrés
DTSTART;VALUE=DATE:20260428
DTEND;VALUE=DATE:20260429
DTSTAMP:20260421T041022Z
UID:6e48c84d2a69468081b5fc56ac5d0b12@147.83.2.84
CREATED:20260420T100110Z
DESCRIPTION:Curs de DRAC i l'avaluació de la recerca per a PDI de nou ing
 rés
LAST-MODIFIED:20260420T115637Z
URL:http://147.83.2.84/info/ca/esdeveniments/curs-de-drac-i-lavaluacio-de-
 la-recerca-per-a-pdi-de-nou-ingres-1
END:VEVENT
END:VCALENDAR
